BEGIN:VCALENDAR
VERSION:2.0
PRODID:-//VM-bloggen 2026 - ECPv6.15.20//NONSGML v1.0//EN
CALSCALE:GREGORIAN
METHOD:PUBLISH
X-WR-CALNAME:VM-bloggen 2026
X-ORIGINAL-URL:https://vmbloggen2026.se
X-WR-CALDESC:Händelser för VM-bloggen 2026
REFRESH-INTERVAL;VALUE=DURATION:PT1H
X-Robots-Tag:noindex
X-PUBLISHED-TTL:PT1H
BEGIN:VTIMEZONE
TZID:Europe/Stockholm
BEGIN:DAYLIGHT
TZOFFSETFROM:+0100
TZOFFSETTO:+0200
TZNAME:CEST
DTSTART:20250330T010000
END:DAYLIGHT
BEGIN:STANDARD
TZOFFSETFROM:+0200
TZOFFSETTO:+0100
TZNAME:CET
DTSTART:20251026T010000
END:STANDARD
BEGIN:DAYLIGHT
TZOFFSETFROM:+0100
TZOFFSETTO:+0200
TZNAME:CEST
DTSTART:20260329T010000
END:DAYLIGHT
BEGIN:STANDARD
TZOFFSETFROM:+0200
TZOFFSETTO:+0100
TZNAME:CET
DTSTART:20261025T010000
END:STANDARD
BEGIN:DAYLIGHT
TZOFFSETFROM:+0100
TZOFFSETTO:+0200
TZNAME:CEST
DTSTART:20270328T010000
END:DAYLIGHT
BEGIN:STANDARD
TZOFFSETFROM:+0200
TZOFFSETTO:+0100
TZNAME:CET
DTSTART:20271031T010000
END:STANDARD
END:VTIMEZONE
BEGIN:VEVENT
DTSTART;TZID=Europe/Stockholm:20260615T040000
DTEND;TZID=Europe/Stockholm:20260615T070000
DTSTAMP:20260419T201925
CREATED:20260417T204536Z
LAST-MODIFIED:20260417T211029Z
UID:491-1781496000-1781506800@vmbloggen2026.se
SUMMARY:Sverige – Tunisien
DESCRIPTION:
URL:https://vmbloggen2026.se/event/sverige-tunisien/
LOCATION:Estadio BBVA\, Av. Pablo Livas 2011\,\, N.L.\, Mexiko\, La Pastora\, Guadalupe\, 67140\, Mexico
CATEGORIES:Sveriges matcher
END:VEVENT
END:VCALENDAR